BEGIN:VCALENDAR
VERSION:2.0
PRODID:-//Plone.org//NONSGML plone.app.event//EN
X-WR-TIMEZONE:Europe/Zurich
BEGIN:VEVENT
SUMMARY:Ausstellung Projektarbeiten 17:00h (bei schönem Wetter anschl. Op
 en-Air-Konzert)
DTSTART;VALUE=DATE:20260617
DTEND;VALUE=DATE:20260618
DTSTAMP;VALUE=DATE-TIME:20260421T110035Z
UID:040000008200E00074C5B7101A82E00800000000905B2FF32DD2DB0100000000000000
 00100000004A0C712812012D47878143BDD488C2B2
CREATED;VALUE=DATE-TIME:20250611T084837Z
LAST-MODIFIED;VALUE=DATE-TIME:20250611T085916Z
LOCATION:kleine Aula Q etc.
URL:https://www.sek-pratteln.ch/events/oeffentlich/ausstellung-projektarbe
 iten-17-00h-bei-schoenem-wetter-anschl-open-air-konzert
END:VEVENT
END:VCALENDAR
