BEGIN:VCALENDAR
VERSION:2.0
PRODID:-//Plone.org//NONSGML plone.app.event//EN
X-WR-TIMEZONE:Europe/Zurich
BEGIN:VEVENT
SUMMARY:Ausstellung PA (abends) - abgesagt
DTSTART;VALUE=DATE:20210623
DTEND;VALUE=DATE:20210624
DTSTAMP;VALUE=DATE-TIME:20260421T111140Z
UID:040000008200E00074C5B7101A82E00800000000807FBC174667D70100000000000000
 0010000000782DE8840E4DD1409743F8EA1EDB5C6C
CREATED;VALUE=DATE-TIME:20210701T072632Z
DESCRIPTION:None\n
LAST-MODIFIED;VALUE=DATE-TIME:20210701T072733Z
URL:https://www.sek-pratteln.ch/events/oeffentlich/ausstellung-pa-abends-a
 bgesagt
END:VEVENT
END:VCALENDAR
