BEGIN:VCALENDAR
VERSION:2.0
PRODID:-//Plone.org//NONSGML plone.app.event//EN
X-WR-TIMEZONE:Europe/Zurich
BEGIN:VEVENT
SUMMARY:Ausstellung PA (abends)
DTSTART;VALUE=DATE:20240619
DTEND;VALUE=DATE:20240620
DTSTAMP;VALUE=DATE-TIME:20260420T095917Z
UID:040000008200E00074C5B7101A82E0080000000090E4F25554A4D90100000000000000
 00100000009D32472C31ED754DA92137E949F95C8C
CREATED;VALUE=DATE-TIME:20230626T125533Z
LAST-MODIFIED;VALUE=DATE-TIME:20230626T130008Z
LOCATION:kleine Aula Q
URL:https://www.sek-pratteln.ch/events/oeffentlich/ausstellung-pa-abends-4
END:VEVENT
END:VCALENDAR
