BEGIN:VCALENDAR
VERSION:2.0
PRODID:-//Plone.org//NONSGML plone.app.event//EN
X-WR-TIMEZONE:Europe/Zurich
BEGIN:VEVENT
SUMMARY:Ausstellung PA (abends)
DTSTART;VALUE=DATE:20230621
DTEND;VALUE=DATE:20230622
DTSTAMP;VALUE=DATE-TIME:20260421T110817Z
UID:040000008200E00074C5B7101A82E00800000000F04A44511D83D80100000000000000
 001000000003FCC9EB4BF76C48BFC29CCD65023D3A
CREATED;VALUE=DATE-TIME:20220627T163400Z
DESCRIPTION: \n
LAST-MODIFIED;VALUE=DATE-TIME:20220627T165959Z
URL:https://www.sek-pratteln.ch/events/oeffentlich/ausstellung-pa-abends-2
END:VEVENT
END:VCALENDAR
