BEGIN:VCALENDAR
VERSION:2.0
PRODID:-//Plone.org//NONSGML plone.app.event//EN
X-WR-TIMEZONE:Europe/Zurich
BEGIN:VEVENT
SUMMARY:Ausstellung PA (abends)
DTSTART;VALUE=DATE:20220622
DTEND;VALUE=DATE:20220623
DTSTAMP;VALUE=DATE-TIME:20260421T110938Z
UID:040000008200E00074C5B7101A82E00800000000908107BA9563D70100000000000000
 00100000003919A5CAA0EDA843A40D311A16F6FBA9
CREATED;VALUE=DATE-TIME:20210701T072604Z
DESCRIPTION:None
LAST-MODIFIED;VALUE=DATE-TIME:20220222T110507Z
LOCATION:kleine Aula-Q / grosse Aula-B
URL:https://www.sek-pratteln.ch/events/oeffentlich/ausstellung-pa-abends-1
END:VEVENT
END:VCALENDAR
