BEGIN:VCALENDAR
VERSION:2.0
PRODID:-//Plone.org//NONSGML plone.app.event//EN
X-WR-TIMEZONE:Europe/Zurich
BEGIN:VEVENT
SUMMARY:Aufschaltung des Anmeldeportals Gymnasium und FMS für SJ 24/25
DTSTART;VALUE=DATE:20240108
DTEND;VALUE=DATE:20240109
DTSTAMP;VALUE=DATE-TIME:20260421T111316Z
UID:040000008200E00074C5B7101A82E00800000000A082371944A4D90100000000000000
 00100000000210F57E8BAE35448B73B0A2F396BAB8
CREATED;VALUE=DATE-TIME:20230626T125545Z
LAST-MODIFIED;VALUE=DATE-TIME:20230626T125922Z
URL:https://www.sek-pratteln.ch/events/oeffentlich/aufschaltung-des-anmeld
 eportals-gymnasium-und-fms-fuer-sj-24-25
END:VEVENT
END:VCALENDAR
