BEGIN:VCALENDAR
VERSION:2.0
PRODID:-//Plone.org//NONSGML plone.app.event//EN
X-WR-TIMEZONE:Europe/Zurich
BEGIN:VEVENT
SUMMARY:Aufführung "escuela de comedia y el mimo"
DTSTART;TZID=Europe/Zurich;VALUE=DATE-TIME:20180604T101500
DTSTAMP;VALUE=DATE-TIME:20260421T115236Z
UID:1cb7734768c145d7a7e99cf2cfd9912a@5.35.252.84:8090
CREATED;VALUE=DATE-TIME:20180409T084226Z
DESCRIPTION:Aufführung für die 1. Klassen
LAST-MODIFIED;VALUE=DATE-TIME:20200706T064352Z
LOCATION:grosse Aula\, B-Trakt
URL:https://www.sek-pratteln.ch/events/oeffentlich/auffuehrung-escuela-de-
 comedia-y-el-mimo
END:VEVENT
BEGIN:VTIMEZONE
TZID:Europe/Zurich
X-LIC-LOCATION:Europe/Zurich
BEGIN:DAYLIGHT
DTSTART;VALUE=DATE-TIME:20180325T030000
TZNAME:CEST
TZOFFSETFROM:+0100
TZOFFSETTO:+0200
END:DAYLIGHT
END:VTIMEZONE
END:VCALENDAR
