BEGIN:VCALENDAR
VERSION:2.0
PRODID:-//Plone.org//NONSGML plone.app.event//EN
X-WR-TIMEZONE:Europe/Zurich
BEGIN:VEVENT
SUMMARY:Auffahrtsbrücke - schulfrei
DTSTART;VALUE=DATE:20160506
DTEND;VALUE=DATE:20160507
DTSTAMP;VALUE=DATE-TIME:20260421T111218Z
UID:040000008200E00074C5B7101A82E00800000000807D6942368FD00100000000000000
 0010000000DAE41CCB15C6344CA62845F4BD3410C7
CREATED;VALUE=DATE-TIME:20150710T073752Z
DESCRIPTION:\n
LAST-MODIFIED;VALUE=DATE-TIME:20200706T064342Z
URL:https://www.sek-pratteln.ch/events/oeffentlich/auffahrtsbruecke-schulf
 rei
END:VEVENT
END:VCALENDAR
