BEGIN:VCALENDAR
VERSION:2.0
PRODID:-//Plone.org//NONSGML plone.app.event//EN
X-WR-TIMEZONE:Europe/Zurich
BEGIN:VEVENT
SUMMARY:Auffahrtsbrücke (schulfrei)
DTSTART;VALUE=DATE:20170526
DTEND;VALUE=DATE:20170527
DTSTAMP;VALUE=DATE-TIME:20260421T111215Z
UID:040000008200E00074C5B7101A82E008000000001047D77886DBD10100000000000000
 0010000000A91FFB85CBB42547B0A09846ACEEFBA9
CREATED;VALUE=DATE-TIME:20160712T121528Z
LAST-MODIFIED;VALUE=DATE-TIME:20200706T064345Z
URL:https://www.sek-pratteln.ch/events/oeffentlich/auffahrtsbruecke-schulf
 rei-1
END:VEVENT
END:VCALENDAR
