BEGIN:VCALENDAR
VERSION:2.0
PRODID:-//Plone.org//NONSGML plone.app.event//EN
X-WR-TIMEZONE:Europe/Zurich
BEGIN:VEVENT
SUMMARY:Auffahrtsbrücke (frei)
DTSTART;VALUE=DATE:20180511
DTEND;VALUE=DATE:20180512
DTSTAMP;VALUE=DATE-TIME:20260419T142731Z
UID:040000008200E00074C5B7101A82E008000000006049AB5DEFE8D20100000000000000
 001000000096C5AC016A01714E9F8BEE99244E9E37
CREATED;VALUE=DATE-TIME:20170623T094919Z
LAST-MODIFIED;VALUE=DATE-TIME:20200706T064350Z
URL:https://www.sek-pratteln.ch/events/oeffentlich/auffahrtsbruecke-frei
END:VEVENT
END:VCALENDAR
