BEGIN:VCALENDAR
VERSION:2.0
PRODID:-//Plone.org//NONSGML plone.app.event//EN
X-WR-TIMEZONE:Europe/Zurich
BEGIN:VEVENT
SUMMARY:Auffahrtsbrücke
DTSTART;VALUE=DATE:20250530
DTEND;VALUE=DATE:20250531
DTSTAMP;VALUE=DATE-TIME:20260421T110816Z
UID:040000008200E00074C5B7101A82E0080000000030C87A3031C2DA0100000000000000
 0010000000AB15F2FD2491934EAF4976903ED61263
CREATED;VALUE=DATE-TIME:20240627T145128Z
LAST-MODIFIED;VALUE=DATE-TIME:20240627T145410Z
URL:https://www.sek-pratteln.ch/events/oeffentlich/auffahrtsbruecke-4
END:VEVENT
END:VCALENDAR
