BEGIN:VCALENDAR
VERSION:2.0
PRODID:-//Plone.org//NONSGML plone.app.event//EN
X-WR-TIMEZONE:Europe/Zurich
BEGIN:VEVENT
SUMMARY:Auffahrtsbrücke
DTSTART;VALUE=DATE:20230519
DTEND;VALUE=DATE:20230520
DTSTAMP;VALUE=DATE-TIME:20260421T110818Z
UID:040000008200E00074C5B7101A82E00800000000104BF1353983D80100000000000000
 001000000035DFB78C1DE1FF43A988C8E7C31A3C6D
CREATED;VALUE=DATE-TIME:20220627T163426Z
DESCRIPTION: \n
LAST-MODIFIED;VALUE=DATE-TIME:20220627T165913Z
URL:https://www.sek-pratteln.ch/events/oeffentlich/auffahrtsbruecke-2
END:VEVENT
END:VCALENDAR
