BEGIN:VCALENDAR
VERSION:2.0
PRODID:-//Plone.org//NONSGML plone.app.event//EN
X-WR-TIMEZONE:Europe/Zurich
BEGIN:VEVENT
SUMMARY:Auffahrtsbrücke
DTSTART;VALUE=DATE:20220527
DTEND;VALUE=DATE:20220528
DTSTAMP;VALUE=DATE-TIME:20260421T150356Z
UID:040000008200E00074C5B7101A82E00800000000804CF769A463D70100000000000000
 0010000000610235A2402A9F458CCFC808EDBDB93B
CREATED;VALUE=DATE-TIME:20210701T072627Z
LAST-MODIFIED;VALUE=DATE-TIME:20210701T072754Z
URL:https://www.sek-pratteln.ch/events/oeffentlich/auffahrtsbruecke-1
END:VEVENT
END:VCALENDAR
