BEGIN:VCALENDAR
VERSION:2.0
PRODID:-//Plone.org//NONSGML plone.app.event//EN
X-WR-TIMEZONE:Europe/Zurich
BEGIN:VEVENT
SUMMARY:Auffahrt
DTSTART;VALUE=DATE:20200521
DTEND;VALUE=DATE:20200523
DTSTAMP;VALUE=DATE-TIME:20260421T110300Z
UID:040000008200E00074C5B7101A82E0080000000030C3B12B8131D50100000000000000
 001000000005ECE37A6D95CD478280F7EC538EA2E8
CREATED;VALUE=DATE-TIME:20190708T101900Z
DESCRIPTION:\n\n
LAST-MODIFIED;VALUE=DATE-TIME:20200706T064400Z
URL:https://www.sek-pratteln.ch/events/oeffentlich/auffahrt
END:VEVENT
END:VCALENDAR
