BEGIN:VCALENDAR
VERSION:2.0
PRODID:-//Plone.org//NONSGML plone.app.event//EN
X-WR-TIMEZONE:Europe/Zurich
BEGIN:VEVENT
SUMMARY:Auffahrt - schulfrei
DTSTART;VALUE=DATE:20160505
DTEND;VALUE=DATE:20160506
DTSTAMP;VALUE=DATE-TIME:20260421T144452Z
UID:040000008200E00074C5B7101A82E00800000000D0CCD03B368FD00100000000000000
 0010000000910C3F3D4191394FB4FA6A61B83CBD7C
CREATED;VALUE=DATE-TIME:20150710T073752Z
DESCRIPTION:\n
LAST-MODIFIED;VALUE=DATE-TIME:20200706T064342Z
URL:https://www.sek-pratteln.ch/events/oeffentlich/auffahrt-schulfrei
END:VEVENT
END:VCALENDAR
