BEGIN:VCALENDAR
VERSION:2.0
PRODID:-//Plone.org//NONSGML plone.app.event//EN
X-WR-TIMEZONE:Europe/Zurich
BEGIN:VEVENT
SUMMARY:Auffahrt (schulfrei)
DTSTART;VALUE=DATE:20170525
DTEND;VALUE=DATE:20170526
DTSTAMP;VALUE=DATE-TIME:20260421T110815Z
UID:040000008200E00074C5B7101A82E008000000005051D26F86DBD10100000000000000
 00100000009885B1E4208F964E944DEA69225D7BEF
CREATED;VALUE=DATE-TIME:20160712T121528Z
LAST-MODIFIED;VALUE=DATE-TIME:20200706T064345Z
URL:https://www.sek-pratteln.ch/events/oeffentlich/auffahrt-schulfrei-1
END:VEVENT
END:VCALENDAR
