BEGIN:VCALENDAR
VERSION:2.0
PRODID:-//Plone.org//NONSGML plone.app.event//EN
X-WR-TIMEZONE:Europe/Zurich
BEGIN:VEVENT
SUMMARY:Auffahrt
DTSTART;VALUE=DATE:20250529
DTEND;VALUE=DATE:20250530
DTSTAMP;VALUE=DATE-TIME:20260421T104522Z
UID:040000008200E00074C5B7101A82E008000000008000D12931C2DA0100000000000000
 001000000086A6D5A22BC41A449A3622AD54299C5A
CREATED;VALUE=DATE-TIME:20240627T145128Z
LAST-MODIFIED;VALUE=DATE-TIME:20240627T145410Z
URL:https://www.sek-pratteln.ch/events/oeffentlich/auffahrt-5
END:VEVENT
END:VCALENDAR
