BEGIN:VCALENDAR
VERSION:2.0
PRODID:-//Plone.org//NONSGML plone.app.event//EN
X-WR-TIMEZONE:Europe/Zurich
BEGIN:VEVENT
SUMMARY:Auffahrt
DTSTART;VALUE=DATE:20230518
DTEND;VALUE=DATE:20230519
DTSTAMP;VALUE=DATE-TIME:20260421T110336Z
UID:040000008200E00074C5B7101A82E008000000004046D0303983D80100000000000000
 0010000000C5D7785032A3994789514DA5461048DE
CREATED;VALUE=DATE-TIME:20220627T163425Z
DESCRIPTION: \n
LAST-MODIFIED;VALUE=DATE-TIME:20220627T165913Z
URL:https://www.sek-pratteln.ch/events/oeffentlich/auffahrt-3
END:VEVENT
END:VCALENDAR
