BEGIN:VCALENDAR
VERSION:2.0
PRODID:-//Plone.org//NONSGML plone.app.event//EN
X-WR-TIMEZONE:Europe/Zurich
BEGIN:VEVENT
SUMMARY:Auffahrt
DTSTART;VALUE=DATE:20210513
DTEND;VALUE=DATE:20210514
DTSTAMP;VALUE=DATE-TIME:20260421T110335Z
UID:040000008200E00074C5B7101A82E0080000000000AE3BC38A45D60100000000000000
 00100000007691D5EB1D2D354A95FD19EC0CB4A72E
CREATED;VALUE=DATE-TIME:20200706T062912Z
LAST-MODIFIED;VALUE=DATE-TIME:20200706T064408Z
URL:https://www.sek-pratteln.ch/events/oeffentlich/auffahrt-1
END:VEVENT
END:VCALENDAR
