BEGIN:VCALENDAR
VERSION:2.0
PRODID:-//Plone.org//NONSGML plone.app.event//EN
X-WR-TIMEZONE:Europe/Zurich
BEGIN:VEVENT
SUMMARY:ACHTUNG! Betrifft Freifach Online Zeitung
DTSTART;VALUE=DATE:20190919
DTEND;VALUE=DATE:20190920
DTSTAMP;VALUE=DATE-TIME:20260421T111214Z
UID:edca4f26e681419483161704983dc94c@5.35.252.84:8090
CREATED;VALUE=DATE-TIME:20190919T060129Z
DESCRIPTION:Das Freifach fällt heute aus!
LAST-MODIFIED;VALUE=DATE-TIME:20200706T064401Z
URL:https://www.sek-pratteln.ch/events/oeffentlich/achtung-betrifft-freifa
 ch-online-zeitung
END:VEVENT
END:VCALENDAR
