BEGIN:VCALENDAR
VERSION:2.0
PRODID:-//Plone.org//NONSGML plone.app.event//EN
X-WR-TIMEZONE:Europe/Zurich
BEGIN:VEVENT
SUMMARY:Abschlussreise
DTSTART;VALUE=DATE:20190626
DTEND;VALUE=DATE:20190627
DTSTAMP;VALUE=DATE-TIME:20260421T110336Z
UID:040000008200E00074C5B7101A82E0080000000070469A8DDA07D40100000000000000
 0010000000031D4E5ABD80DB49A6BF4E3EE513FF2A
CREATED;VALUE=DATE-TIME:20180629T060537Z
DESCRIPTION:\n\n
LAST-MODIFIED;VALUE=DATE-TIME:20200706T064353Z
URL:https://www.sek-pratteln.ch/events/oeffentlich/abschlussreise
END:VEVENT
END:VCALENDAR
