BEGIN:VCALENDAR
VERSION:2.0
PRODID:-//Plone.org//NONSGML plone.app.event//EN
X-WR-TIMEZONE:Europe/Zurich
BEGIN:VEVENT
SUMMARY:Abschlusskonzert 4. Klassen
DTSTART;TZID=Europe/Zurich;VALUE=DATE-TIME:20160623T193000
DTEND;TZID=Europe/Zurich;VALUE=DATE-TIME:20160623T203000
DTSTAMP;VALUE=DATE-TIME:20260421T110923Z
UID:a62f8698a81a4377a867e2d0675f8819@5.35.252.84:8090
CONTACT:Simon Matiz
CREATED;VALUE=DATE-TIME:20160614T081050Z
LAST-MODIFIED;VALUE=DATE-TIME:20200706T064345Z
LOCATION:Aula B-Trakt
URL:https://www.sek-pratteln.ch/events/oeffentlich/abschlusskonzert-4-klas
 sen
END:VEVENT
BEGIN:VTIMEZONE
TZID:Europe/Zurich
X-LIC-LOCATION:Europe/Zurich
BEGIN:DAYLIGHT
DTSTART;VALUE=DATE-TIME:20160327T030000
TZNAME:CEST
TZOFFSETFROM:+0100
TZOFFSETTO:+0200
END:DAYLIGHT
END:VTIMEZONE
END:VCALENDAR
