BEGIN:VCALENDAR
VERSION:2.0
PRODID:-//Plone.org//NONSGML plone.app.event//EN
X-WR-TIMEZONE:Europe/Zurich
BEGIN:VEVENT
SUMMARY:Abschlussball 3. Klassen 19:00h
DTSTART;TZID=Europe/Zurich;VALUE=DATE-TIME:20260612T190000
DTEND;TZID=Europe/Zurich;VALUE=DATE-TIME:20260612T230000
DTSTAMP;VALUE=DATE-TIME:20260421T111006Z
UID:040000008200E00074C5B7101A82E0080000000080C420362DD2DB0100000000000000
 00100000002300A8E10A7FAD46A5D7F5B4AAE511C2
CREATED;VALUE=DATE-TIME:20250611T084839Z
DESCRIPTION:None
LAST-MODIFIED;VALUE=DATE-TIME:20250701T090852Z
LOCATION:grosse Aula B
URL:https://www.sek-pratteln.ch/events/oeffentlich/abschlussbar-3-klassen-
 19-00h
END:VEVENT
BEGIN:VTIMEZONE
TZID:Europe/Zurich
X-LIC-LOCATION:Europe/Zurich
BEGIN:DAYLIGHT
DTSTART;VALUE=DATE-TIME:20260329T030000
TZNAME:CEST
TZOFFSETFROM:+0100
TZOFFSETTO:+0200
END:DAYLIGHT
END:VTIMEZONE
END:VCALENDAR
