BEGIN:VCALENDAR
VERSION:2.0
PRODID:-//Plone.org//NONSGML plone.app.event//EN
X-WR-TIMEZONE:Europe/Zurich
BEGIN:VEVENT
SUMMARY:Abschlussball 3. Klassen 19:00h
DTSTART;TZID=Europe/Zurich;VALUE=DATE-TIME:20250613T190000
DTEND;TZID=Europe/Zurich;VALUE=DATE-TIME:20250613T230000
DTSTAMP;VALUE=DATE-TIME:20260421T111114Z
UID:040000008200E00074C5B7101A82E00800000000F0B3B04A44C2DA0100000000000000
 001000000041E1DCD53B256A4D8597EF19D61FEE4C
CREATED;VALUE=DATE-TIME:20240627T145051Z
LAST-MODIFIED;VALUE=DATE-TIME:20240627T145632Z
LOCATION:grosse Aula-B
URL:https://www.sek-pratteln.ch/events/oeffentlich/abschlussball-3-klassen
 -19-00h
END:VEVENT
BEGIN:VTIMEZONE
TZID:Europe/Zurich
X-LIC-LOCATION:Europe/Zurich
BEGIN:DAYLIGHT
DTSTART;VALUE=DATE-TIME:20250330T030000
TZNAME:CEST
TZOFFSETFROM:+0100
TZOFFSETTO:+0200
END:DAYLIGHT
END:VTIMEZONE
END:VCALENDAR
