BEGIN:VCALENDAR
VERSION:2.0
PRODID:-//Plone.org//NONSGML plone.app.event//EN
X-WR-TIMEZONE:Europe/Zurich
BEGIN:VEVENT
SUMMARY:AbgängerInnenbefragung
DTSTART;VALUE=DATE:20220607
DTEND;VALUE=DATE:20220618
DTSTAMP;VALUE=DATE-TIME:20260421T110708Z
UID:040000008200E00074C5B7101A82E00800000000805DB8159563D70100000000000000
 00100000004DB79CCB5CFC8941B2040E6EE16783B3
CREATED;VALUE=DATE-TIME:20210701T072603Z
LAST-MODIFIED;VALUE=DATE-TIME:20210701T072911Z
URL:https://www.sek-pratteln.ch/events/oeffentlich/abgaengerinnenbefragung
 -1
END:VEVENT
END:VCALENDAR
