BEGIN:VCALENDAR
VERSION:2.0
PRODID:-//Plone.org//NONSGML plone.app.event//EN
X-WR-TIMEZONE:Europe/Zurich
BEGIN:VEVENT
SUMMARY:Abgabe Projektarbeit
DTSTART;VALUE=DATE:20210521
DTEND;VALUE=DATE:20210522
DTSTAMP;VALUE=DATE-TIME:20260421T110547Z
UID:040000008200E00074C5B7101A82E0080000000040F89F018B45D60100000000000000
 0010000000B84CAF01E975E64B8C969A472B8FAC8F
CREATED;VALUE=DATE-TIME:20200706T062909Z
LAST-MODIFIED;VALUE=DATE-TIME:20200706T064407Z
URL:https://www.sek-pratteln.ch/events/oeffentlich/abgabe-projektarbeit
END:VEVENT
END:VCALENDAR
