BEGIN:VCALENDAR
VERSION:2.0
PRODID:-//Plone.org//NONSGML plone.app.event//EN
X-WR-TIMEZONE:Europe/Zurich
BEGIN:VEVENT
SUMMARY:Abgabe Projektarbeit 9. Klassen
DTSTART;VALUE=DATE:20240508
DTEND;VALUE=DATE:20240509
DTSTAMP;VALUE=DATE-TIME:20260421T110937Z
UID:040000008200E00074C5B7101A82E00800000000807466F250A4D90100000000000000
 001000000013E175D6C4E7AC458E4AFA9831F835A6
CREATED;VALUE=DATE-TIME:20230626T125539Z
LAST-MODIFIED;VALUE=DATE-TIME:20230626T125939Z
URL:https://www.sek-pratteln.ch/events/oeffentlich/abgabe-projektarbeit-9-
 klassen
END:VEVENT
END:VCALENDAR
