BEGIN:VCALENDAR
VERSION:2.0
PRODID:-//Plone.org//NONSGML plone.app.event//EN
X-WR-TIMEZONE:Europe/Zurich
BEGIN:VEVENT
SUMMARY:Abgabe Projektarbeit 3. Klassen
DTSTART;VALUE=DATE:20250528
DTEND;VALUE=DATE:20250529
DTSTAMP;VALUE=DATE-TIME:20260421T105325Z
UID:040000008200E00074C5B7101A82E00800000000502A10F842C2DA0100000000000000
 00100000000F56BB3E6427824499AE49FEF47294DC
CREATED;VALUE=DATE-TIME:20240627T145053Z
LAST-MODIFIED;VALUE=DATE-TIME:20240627T145632Z
URL:https://www.sek-pratteln.ch/events/oeffentlich/abgabe-projektarbeit-3-
 klassen
END:VEVENT
END:VCALENDAR
