BEGIN:VCALENDAR
VERSION:2.0
PRODID:-//Plone.org//NONSGML plone.app.event//EN
X-WR-TIMEZONE:Europe/Zurich
BEGIN:VEVENT
SUMMARY:Ab 11:50h für SuS schulfrei
DTSTART;VALUE=DATE:20230627
DTEND;VALUE=DATE:20230628
DTSTAMP;VALUE=DATE-TIME:20260421T111319Z
UID:040000008200E00074C5B7101A82E00800000000D06EA1681D83D80100000000000000
 00100000003E94306A8C2E7443920A0604F218BE7C
CREATED;VALUE=DATE-TIME:20220627T163401Z
DESCRIPTION: \n
LAST-MODIFIED;VALUE=DATE-TIME:20220627T165959Z
URL:https://www.sek-pratteln.ch/events/oeffentlich/ab-11-50h-fuer-sus-schu
 lfrei-1
END:VEVENT
END:VCALENDAR
