BEGIN:VCALENDAR
VERSION:2.0
PRODID:-//Plone.org//NONSGML plone.app.event//EN
X-WR-TIMEZONE:Europe/Zurich
BEGIN:VEVENT
SUMMARY:Ab 11:45h schulfrei für SuS
DTSTART;TZID=Europe/Zurich;VALUE=DATE-TIME:20250624T114500
DTEND;TZID=Europe/Zurich;VALUE=DATE-TIME:20250624T170000
DTSTAMP;VALUE=DATE-TIME:20260421T105725Z
UID:040000008200E00074C5B7101A82E00800000000F06D78EF45C2DA0100000000000000
 001000000084DD023AC24A794181586370D8DD3F39
CREATED;VALUE=DATE-TIME:20240627T145045Z
LAST-MODIFIED;VALUE=DATE-TIME:20240627T145631Z
URL:https://www.sek-pratteln.ch/events/oeffentlich/ab-11-45h-schulfrei-fue
 r-sus
END:VEVENT
BEGIN:VTIMEZONE
TZID:Europe/Zurich
X-LIC-LOCATION:Europe/Zurich
BEGIN:DAYLIGHT
DTSTART;VALUE=DATE-TIME:20250330T030000
TZNAME:CEST
TZOFFSETFROM:+0100
TZOFFSETTO:+0200
END:DAYLIGHT
END:VTIMEZONE
END:VCALENDAR
