BEGIN:VCALENDAR
VERSION:2.0
PRODID:-//Plone.org//NONSGML plone.app.event//EN
X-WR-TIMEZONE:Europe/Zurich
BEGIN:VEVENT
SUMMARY:Frühlingsferien
DTSTART;VALUE=DATE:20260330
DTEND;VALUE=DATE:20260411
DTSTAMP;VALUE=DATE-TIME:20260420T065423Z
UID:040000008200E00074C5B7101A82E00800000000000F72321AD2DB0100000000000000
 00100000003ED06058F813584BB5ACD5F991480432
CREATED;VALUE=DATE-TIME:20250611T084918Z
LAST-MODIFIED;VALUE=DATE-TIME:20250611T085637Z
URL:https://www.sek-pratteln.ch/events/oeffentlich/fruehlingsferien-6
END:VEVENT
BEGIN:VEVENT
SUMMARY:Offene Werkstatt
DTSTART;VALUE=DATE:20260413
DTEND;VALUE=DATE:20260425
DTSTAMP;VALUE=DATE-TIME:20260420T065423Z
UID:040000008200E00074C5B7101A82E00800000000008024C220D2DB0100000000000000
 0010000000C42463CA55A4FB4DBB26C7C59363BAED
CREATED;VALUE=DATE-TIME:20250611T084903Z
LAST-MODIFIED;VALUE=DATE-TIME:20250611T085728Z
URL:https://www.sek-pratteln.ch/events/oeffentlich/offene-werkstatt-2
END:VEVENT
BEGIN:VEVENT
SUMMARY:CDW S3 online
DTSTART;VALUE=DATE:20260413
DTEND;VALUE=DATE:20260509
DTSTAMP;VALUE=DATE-TIME:20260420T065423Z
UID:040000008200E00074C5B7101A82E00800000000D03A899B20D2DB0100000000000000
 0010000000FC2BD1B1C75CDB4EAB795FA1E4364632
CREATED;VALUE=DATE-TIME:20250611T084903Z
LAST-MODIFIED;VALUE=DATE-TIME:20250611T085728Z
URL:https://www.sek-pratteln.ch/events/oeffentlich/cdw-s3-online-1
END:VEVENT
BEGIN:VEVENT
SUMMARY:Woche B
DTSTART;TZID=Europe/Zurich;VALUE=DATE-TIME:20260413T070000
DTEND;TZID=Europe/Zurich;VALUE=DATE-TIME:20260413T073000
DTSTAMP;VALUE=DATE-TIME:20260420T065423Z
UID:040000008200E00074C5B7101A82E00800000000D0A6945E18D2DB0100000000000000
 00100000004662D3A70FAEDD4DB5BD408D2176C034
CREATED;VALUE=DATE-TIME:20250611T084922Z
LAST-MODIFIED;VALUE=DATE-TIME:20250611T085709Z
URL:https://www.sek-pratteln.ch/events/oeffentlich/woche-b-1749631763.04
END:VEVENT
BEGIN:VEVENT
SUMMARY:Polizeiprävention 1. Klassen (Aula Q)
DTSTART;VALUE=DATE:20260420
DTEND;VALUE=DATE:20260424
DTSTAMP;VALUE=DATE-TIME:20260420T065423Z
UID:040000008200E00074C5B7101A82E00800000000300C82DF20D2DB0100000000000000
 0010000000ECB090966A059446A9A95A229CA6805C
CREATED;VALUE=DATE-TIME:20250611T084902Z
LAST-MODIFIED;VALUE=DATE-TIME:20250611T085746Z
LOCATION:kleine Aula Q
URL:https://www.sek-pratteln.ch/events/oeffentlich/polizeipraevention-1-kl
 assen-aula-q
END:VEVENT
BEGIN:VEVENT
SUMMARY:Woche A
DTSTART;TZID=Europe/Zurich;VALUE=DATE-TIME:20260420T070000
DTEND;TZID=Europe/Zurich;VALUE=DATE-TIME:20260420T073000
DTSTAMP;VALUE=DATE-TIME:20260420T065423Z
UID:040000008200E00074C5B7101A82E00800000000A06B3B9316D2DB0100000000000000
 0010000000EBF04F9694712942B17934681B835FF8
CREATED;VALUE=DATE-TIME:20250611T084930Z
LAST-MODIFIED;VALUE=DATE-TIME:20250611T085653Z
URL:https://www.sek-pratteln.ch/events/oeffentlich/woche-a-1749631771.33
END:VEVENT
BEGIN:VEVENT
SUMMARY:Interkultureller Projekttag 2Aabc (Morgen)
DTSTART;TZID=Europe/Zurich;VALUE=DATE-TIME:20260421T080000
DTEND;TZID=Europe/Zurich;VALUE=DATE-TIME:20260421T120000
DTSTAMP;VALUE=DATE-TIME:20260420T065423Z
UID:040000008200E00074C5B7101A82E00800000000A06996752BD2DB0100000000000000
 0010000000302F50EACC3D184FB677CAA507D9CFC1
CREATED;VALUE=DATE-TIME:20250611T084841Z
LAST-MODIFIED;VALUE=DATE-TIME:20250611T085835Z
URL:https://www.sek-pratteln.ch/events/oeffentlich/interkultureller-projek
 ttag-2aabc-morgen
END:VEVENT
BEGIN:VEVENT
SUMMARY:Interkultureller Projekttag 2Eabc (Morgen)
DTSTART;TZID=Europe/Zurich;VALUE=DATE-TIME:20260422T080000
DTEND;TZID=Europe/Zurich;VALUE=DATE-TIME:20260422T120000
DTSTAMP;VALUE=DATE-TIME:20260420T065423Z
UID:040000008200E00074C5B7101A82E00800000000B0E96AA72BD2DB0100000000000000
 0010000000505F1927C09425499E04C476AA09826C
CREATED;VALUE=DATE-TIME:20250611T084841Z
LAST-MODIFIED;VALUE=DATE-TIME:20250611T085835Z
URL:https://www.sek-pratteln.ch/events/oeffentlich/interkultureller-projek
 ttag-2eabc-morgen
END:VEVENT
BEGIN:VEVENT
SUMMARY:Schulhaussprechstunde ab 13:00h
DTSTART;TZID=Europe/Zurich;VALUE=DATE-TIME:20260422T130000
DTEND;TZID=Europe/Zurich;VALUE=DATE-TIME:20260422T170000
DTSTAMP;VALUE=DATE-TIME:20260420T065423Z
UID:040000008200E00074C5B7101A82E008000000001099D4A022D2DB0100000000000000
 001000000087F2E28CCE944745A9F2771BD0E04181
CREATED;VALUE=DATE-TIME:20250611T084858Z
LAST-MODIFIED;VALUE=DATE-TIME:20250611T085746Z
URL:https://www.sek-pratteln.ch/events/oeffentlich/schulhaussprechstunde-a
 b-13-00h-3
END:VEVENT
BEGIN:VEVENT
SUMMARY:Ergebnisrückmeldung Check S2 (KW 18)
DTSTART;VALUE=DATE:20260427
DTEND;VALUE=DATE:20260428
DTSTAMP;VALUE=DATE-TIME:20260420T065423Z
UID:040000008200E00074C5B7101A82E00800000000B0BCE23421D2DB0100000000000000
 0010000000A655462CAB0AEA4486276C07FFDEBAA8
CREATED;VALUE=DATE-TIME:20250611T084902Z
LAST-MODIFIED;VALUE=DATE-TIME:20250611T085746Z
URL:https://www.sek-pratteln.ch/events/oeffentlich/ergebnisrueckmeldung-ch
 eck-s2-kw-18
END:VEVENT
BEGIN:VEVENT
SUMMARY:Woche B
DTSTART;TZID=Europe/Zurich;VALUE=DATE-TIME:20260427T070000
DTEND;TZID=Europe/Zurich;VALUE=DATE-TIME:20260427T073000
DTSTAMP;VALUE=DATE-TIME:20260420T065423Z
UID:040000008200E00074C5B7101A82E0080000000040DD5C6318D2DB0100000000000000
 0010000000299006BBA40DAD49AAF70662A6D044F3
CREATED;VALUE=DATE-TIME:20250611T084922Z
LAST-MODIFIED;VALUE=DATE-TIME:20250611T085709Z
URL:https://www.sek-pratteln.ch/events/oeffentlich/woche-b-1749631762.61
END:VEVENT
BEGIN:VEVENT
SUMMARY:Interkultureller Projekttag 2Pab + 2Kab (Morgen)
DTSTART;TZID=Europe/Zurich;VALUE=DATE-TIME:20260428T080000
DTEND;TZID=Europe/Zurich;VALUE=DATE-TIME:20260428T120000
DTSTAMP;VALUE=DATE-TIME:20260420T065423Z
UID:040000008200E00074C5B7101A82E00800000000C0D30BBC2BD2DB0100000000000000
 0010000000E20A5EA6ED6BCE4BA9F2E24FD5B395E1
CREATED;VALUE=DATE-TIME:20250611T084841Z
LAST-MODIFIED;VALUE=DATE-TIME:20250611T085835Z
URL:https://www.sek-pratteln.ch/events/oeffentlich/interkultureller-projek
 ttag-2pab-2kab-morgen
END:VEVENT
BEGIN:VEVENT
SUMMARY:CDW S2 Ergebnisse online einsehbar
DTSTART;VALUE=DATE:20260430
DTEND;VALUE=DATE:20260501
DTSTAMP;VALUE=DATE-TIME:20260420T065423Z
UID:040000008200E00074C5B7101A82E00800000000505A2B672CD2DB0100000000000000
 0010000000E81758840C987042B9F4854EB90D3169
CREATED;VALUE=DATE-TIME:20250611T084840Z
LAST-MODIFIED;VALUE=DATE-TIME:20250611T085835Z
URL:https://www.sek-pratteln.ch/events/oeffentlich/cdw-s2-ergebnisse-onlin
 e-einsehbar
END:VEVENT
BEGIN:VTIMEZONE
TZID:Europe/Zurich
X-LIC-LOCATION:Europe/Zurich
BEGIN:DAYLIGHT
DTSTART;VALUE=DATE-TIME:20260329T030000
TZNAME:CEST
TZOFFSETFROM:+0100
TZOFFSETTO:+0200
END:DAYLIGHT
END:VTIMEZONE
END:VCALENDAR
