BEGIN:VCALENDAR
VERSION:2.0
PRODID:-//Plone.org//NONSGML plone.app.event//EN
X-WR-TIMEZONE:Europe/Zurich
BEGIN:VEVENT
SUMMARY:4A / Exkursion
DTSTART;VALUE=DATE:20150930
DTEND;VALUE=DATE:20151001
DTSTAMP;VALUE=DATE-TIME:20260421T110224Z
UID:040000008200E00074C5B7101A82E00800000000B02A6924CCADD00100000000000000
 001000000001FAC209A020884F8AF8B170F914632F
CREATED;VALUE=DATE-TIME:20150710T073758Z
DESCRIPTION:\n
LAST-MODIFIED;VALUE=DATE-TIME:20200706T064343Z
URL:https://www.sek-pratteln.ch/events/oeffentlich/4a-exkursion
END:VEVENT
END:VCALENDAR
