BEGIN:VCALENDAR
VERSION:2.0
PRODID:-//Plone.org//NONSGML plone.app.event//EN
X-WR-TIMEZONE:Europe/Zurich
BEGIN:VEVENT
SUMMARY:Interkulturelle Projekttage
DTSTART;VALUE=DATE:20210504
DTEND;VALUE=DATE:20210505
DTSTAMP;VALUE=DATE-TIME:20260421T110257Z
UID:040000008200E00074C5B7101A82E00800000000C07E8ADAD44AD60100000000000000
 001000000024A431E4D6B5D045A9F410B18213EEB4
CREATED;VALUE=DATE-TIME:20200706T062541Z
LAST-MODIFIED;VALUE=DATE-TIME:20200706T064401Z
URL:https://www.sek-pratteln.ch/events/oeffentlich/48545427
END:VEVENT
END:VCALENDAR
