BEGIN:VCALENDAR
VERSION:2.0
PRODID:-//Plone.org//NONSGML plone.app.event//EN
X-WR-TIMEZONE:Europe/Zurich
BEGIN:VEVENT
SUMMARY:4. Klassen: Letzter Schultag mit Unterricht nach Stundenplan
DTSTART;VALUE=DATE:20170623
DTEND;VALUE=DATE:20170624
DTSTAMP;VALUE=DATE-TIME:20260421T111308Z
UID:040000008200E00074C5B7101A82E008000000000045997584DBD10100000000000000
 00100000007899148C7EBE8041BFAB7A6BDBD3A9B8
CREATED;VALUE=DATE-TIME:20160712T121529Z
LAST-MODIFIED;VALUE=DATE-TIME:20200706T064345Z
URL:https://www.sek-pratteln.ch/events/oeffentlich/4-klassen-letzter-schul
 tag-mit-unterricht-nach-stundenplan
END:VEVENT
END:VCALENDAR
