BEGIN:VCALENDAR
VERSION:2.0
PRODID:-//Plone.org//NONSGML plone.app.event//EN
X-WR-TIMEZONE:Europe/Zurich
BEGIN:VEVENT
SUMMARY:4. Kl. Schulwahlmarktplatz
DTSTART;TZID=Europe/Zurich;VALUE=DATE-TIME:20151021T193000
DTEND;TZID=Europe/Zurich;VALUE=DATE-TIME:20151021T213000
DTSTAMP;VALUE=DATE-TIME:20260421T114316Z
UID:040000008200E00074C5B7101A82E00800000000409A0BC88194D00100000000000000
 001000000018503120089CF44A82B760176F1BC09C
CREATED;VALUE=DATE-TIME:20150710T073756Z
DESCRIPTION:\n\n\n
LAST-MODIFIED;VALUE=DATE-TIME:20200706T064343Z
LOCATION:Aula II
URL:https://www.sek-pratteln.ch/events/oeffentlich/4-kl-schulwahlmarktplat
 z
END:VEVENT
BEGIN:VTIMEZONE
TZID:Europe/Zurich
X-LIC-LOCATION:Europe/Zurich
BEGIN:DAYLIGHT
DTSTART;VALUE=DATE-TIME:20150329T030000
TZNAME:CEST
TZOFFSETFROM:+0100
TZOFFSETTO:+0200
END:DAYLIGHT
END:VTIMEZONE
END:VCALENDAR
