BEGIN:VCALENDAR
VERSION:2.0
PRODID:-//Plone.org//NONSGML plone.app.event//EN
X-WR-TIMEZONE:Europe/Zurich
BEGIN:VEVENT
SUMMARY:4. Kl. / Ferienbeginn
DTSTART;VALUE=DATE:20160630
DTEND;VALUE=DATE:20160701
DTSTAMP;VALUE=DATE-TIME:20260421T110541Z
UID:040000008200E00074C5B7101A82E0080000000070EB2699CDADD00100000000000000
 0010000000904B41E68E59864A8207CD955D1433F7
CREATED;VALUE=DATE-TIME:20150710T073759Z
DESCRIPTION:\n
LAST-MODIFIED;VALUE=DATE-TIME:20200706T064343Z
URL:https://www.sek-pratteln.ch/events/oeffentlich/4-kl-ferienbeginn
END:VEVENT
END:VCALENDAR
