BEGIN:VCALENDAR
VERSION:2.0
PRODID:-//Plone.org//NONSGML plone.app.event//EN
X-WR-TIMEZONE:Europe/Zurich
BEGIN:VEVENT
SUMMARY:4. Kl. Abschlussreisen
DTSTART;VALUE=DATE:20160629
DTEND;VALUE=DATE:20160630
DTSTAMP;VALUE=DATE-TIME:20260421T110926Z
UID:040000008200E00074C5B7101A82E00800000000C0F70092358FD00100000000000000
 0010000000AD489057010BAA4880E773292E704EFE
CREATED;VALUE=DATE-TIME:20150710T073752Z
DESCRIPTION:\n
LAST-MODIFIED;VALUE=DATE-TIME:20200706T064342Z
URL:https://www.sek-pratteln.ch/events/oeffentlich/4-kl-abschlussreisen
END:VEVENT
END:VCALENDAR
