BEGIN:VCALENDAR
VERSION:2.0
PRODID:-//Plone.org//NONSGML plone.app.event//EN
X-WR-TIMEZONE:Europe/Zurich
BEGIN:VEVENT
SUMMARY:4.A / Schnupperlehren 14.-18.09.15
DTSTART;VALUE=DATE:20150914
DTEND;VALUE=DATE:20150919
DTSTAMP;VALUE=DATE-TIME:20260419T214257Z
UID:040000008200E00074C5B7101A82E00800000000C0B2DE03AEA2D00100000000000000
 00100000009AB7E593AD4DB148BDD1E44386A0CABD
CREATED;VALUE=DATE-TIME:20150710T073756Z
DESCRIPTION:\n\n\n
LAST-MODIFIED;VALUE=DATE-TIME:20200706T064343Z
URL:https://www.sek-pratteln.ch/events/oeffentlich/4-a-schnupperlehren-14-
 18-09.15
END:VEVENT
END:VCALENDAR
