BEGIN:VCALENDAR
VERSION:2.0
PRODID:-//Plone.org//NONSGML plone.app.event//EN
X-WR-TIMEZONE:Europe/Zurich
BEGIN:VEVENT
SUMMARY:4.A / Schnupperlehren
DTSTART;VALUE=DATE:20151102
DTEND;VALUE=DATE:20151107
DTSTAMP;VALUE=DATE-TIME:20260419T231347Z
UID:040000008200E00074C5B7101A82E0080000000090F21431AEA2D00100000000000000
 0010000000AA128880480B0047A3DC44A5CAE61082
CREATED;VALUE=DATE-TIME:20150710T073756Z
LAST-MODIFIED;VALUE=DATE-TIME:20200706T064343Z
URL:https://www.sek-pratteln.ch/events/oeffentlich/4-a-schnupperlehren-02-
 06-11.15
END:VEVENT
END:VCALENDAR
