BEGIN:VCALENDAR
VERSION:2.0
PRODID:-//Plone.org//NONSGML plone.app.event//EN
X-WR-TIMEZONE:Europe/Zurich
BEGIN:VEVENT
SUMMARY:3A / Medienkurs
DTSTART;TZID=Europe/Zurich;VALUE=DATE-TIME:20151103T082000
DTEND;TZID=Europe/Zurich;VALUE=DATE-TIME:20151103T095500
DTSTAMP;VALUE=DATE-TIME:20260419T152645Z
UID:040000008200E00074C5B7101A82E00800000000606C87A8CEADD00100000000000000
 00100000007E94968686BA594E9CED8F99D0AE0601
CREATED;VALUE=DATE-TIME:20150710T073800Z
DESCRIPTION:\n
LAST-MODIFIED;VALUE=DATE-TIME:20200706T064343Z
URL:https://www.sek-pratteln.ch/events/oeffentlich/3a-medienkurs-1
END:VEVENT
BEGIN:VTIMEZONE
TZID:Europe/Zurich
X-LIC-LOCATION:Europe/Zurich
BEGIN:STANDARD
DTSTART;VALUE=DATE-TIME:20151025T020000
TZNAME:CET
TZOFFSETFROM:+0200
TZOFFSETTO:+0100
END:STANDARD
END:VTIMEZONE
END:VCALENDAR
