BEGIN:VCALENDAR
VERSION:2.0
PRODID:-//Plone.org//NONSGML plone.app.event//EN
X-WR-TIMEZONE:Europe/Zurich
BEGIN:VEVENT
SUMMARY:34. Mini-Volleyballturnier
DTSTART;VALUE=DATE:20171122
DTEND;VALUE=DATE:20171123
DTSTAMP;VALUE=DATE-TIME:20260421T104958Z
UID:347017556d3e48dca57491731c95b6bf@5.35.252.84:8090
CREATED;VALUE=DATE-TIME:20170922T070121Z
DESCRIPTION:Vorrunde in Aesch
LAST-MODIFIED;VALUE=DATE-TIME:20200706T064352Z
LOCATION:Aesch
URL:https://www.sek-pratteln.ch/events/oeffentlich/34-mini-volleyballturni
 er
END:VEVENT
END:VCALENDAR
