BEGIN:VCALENDAR
VERSION:2.0
PRODID:-//Plone.org//NONSGML plone.app.event//EN
X-WR-TIMEZONE:Europe/Zurich
BEGIN:VEVENT
SUMMARY:3. Klassen: Abschlussfeier (klassenweise)
DTSTART;VALUE=DATE:20210701
DTEND;VALUE=DATE:20210702
DTSTAMP;VALUE=DATE-TIME:20260421T111309Z
UID:040000008200E00074C5B7101A82E00800000000A0B9DEB62A4AD60100000000000000
 00100000000478EFDC9105404B9E04D373B21CB835
CREATED;VALUE=DATE-TIME:20200706T062819Z
DESCRIPTION:None
LAST-MODIFIED;VALUE=DATE-TIME:20210615T080828Z
URL:https://www.sek-pratteln.ch/events/oeffentlich/3-klassen-abschlussfeie
 r-14-00-generalprobe-19-30-feier-kuspo
END:VEVENT
END:VCALENDAR
