BEGIN:VCALENDAR
VERSION:2.0
PRODID:-//Plone.org//NONSGML plone.app.event//EN
X-WR-TIMEZONE:Europe/Zurich
BEGIN:VEVENT
SUMMARY:3. Kl.: späteste Rückgabe des Zeugnisses an KLP
DTSTART;VALUE=DATE:20230120
DTEND;VALUE=DATE:20230121
DTSTAMP;VALUE=DATE-TIME:20260421T111308Z
UID:040000008200E00074C5B7101A82E0080000000070079AE53283D80100000000000000
 0010000000EF953A88E75F9E4A859614CFECF9B589
CREATED;VALUE=DATE-TIME:20220627T163416Z
DESCRIPTION: \n
LAST-MODIFIED;VALUE=DATE-TIME:20220627T165927Z
URL:https://www.sek-pratteln.ch/events/oeffentlich/3-kl-spaeteste-rueckgab
 e-des-zeugnisses-an-klp
END:VEVENT
END:VCALENDAR
