BEGIN:VCALENDAR
VERSION:2.0
PRODID:-//Plone.org//NONSGML plone.app.event//EN
X-WR-TIMEZONE:Europe/Zurich
BEGIN:VEVENT
SUMMARY:3. Kl: späteste Rückgabe des Zeugnisses an KLP
DTSTART;VALUE=DATE:20240119
DTEND;VALUE=DATE:20240120
DTSTAMP;VALUE=DATE-TIME:20260421T111307Z
UID:040000008200E00074C5B7101A82E00800000000D08AFA7645A4D90100000000000000
 0010000000E740078E6FD4CF489479F6D8FFC0BC47
CREATED;VALUE=DATE-TIME:20230626T125543Z
LAST-MODIFIED;VALUE=DATE-TIME:20230626T125939Z
URL:https://www.sek-pratteln.ch/events/oeffentlich/3-kl-spaeteste-rueckgab
 e-des-zeugnisses-an-klp-1
END:VEVENT
END:VCALENDAR
