BEGIN:VCALENDAR
VERSION:2.0
PRODID:-//Plone.org//NONSGML plone.app.event//EN
X-WR-TIMEZONE:Europe/Zurich
BEGIN:VEVENT
SUMMARY:3. Kl.: Nm GP\, Abschlussfeier 19:30h KUSPO
DTSTART;VALUE=DATE:20250626
DTEND;VALUE=DATE:20250627
DTSTAMP;VALUE=DATE-TIME:20260421T111310Z
UID:040000008200E00074C5B7101A82E0080000000050A19BC946C2DA0100000000000000
 0010000000BDA8A2B732156C43A55B0166ACEC0542
CREATED;VALUE=DATE-TIME:20240627T145043Z
LAST-MODIFIED;VALUE=DATE-TIME:20240627T145631Z
URL:https://www.sek-pratteln.ch/events/oeffentlich/3-kl-nm-gp-abschlussfei
 er-19-30h-kuspo
END:VEVENT
END:VCALENDAR
