BEGIN:VCALENDAR
VERSION:2.0
PRODID:-//Plone.org//NONSGML plone.app.event//EN
X-WR-TIMEZONE:Europe/Zurich
BEGIN:VEVENT
SUMMARY:3.A / Elternabend
DTSTART;TZID=Europe/Zurich;VALUE=DATE-TIME:20150907T190000
DTEND;TZID=Europe/Zurich;VALUE=DATE-TIME:20150907T213000
DTSTAMP;VALUE=DATE-TIME:20260421T104509Z
UID:040000008200E00074C5B7101A82E008000000002048C0CC308FD00100000000000000
 0010000000D4486090B311D640A8BA42B1365B88D5
CREATED;VALUE=DATE-TIME:20150710T073751Z
DESCRIPTION:\n\n\n
LAST-MODIFIED;VALUE=DATE-TIME:20200706T064341Z
LOCATION:Aula II
URL:https://www.sek-pratteln.ch/events/oeffentlich/3-a-elternabend
END:VEVENT
BEGIN:VTIMEZONE
TZID:Europe/Zurich
X-LIC-LOCATION:Europe/Zurich
BEGIN:DAYLIGHT
DTSTART;VALUE=DATE-TIME:20150329T030000
TZNAME:CEST
TZOFFSETFROM:+0100
TZOFFSETTO:+0200
END:DAYLIGHT
END:VTIMEZONE
END:VCALENDAR
