BEGIN:VCALENDAR
VERSION:2.0
PRODID:-//Plone.org//NONSGML plone.app.event//EN
X-WR-TIMEZONE:Europe/Zurich
BEGIN:VEVENT
SUMMARY:2A / 2Ea Skilager 11.-15.1.15
DTSTART;VALUE=DATE:20160111
DTEND;VALUE=DATE:20160116
DTSTAMP;VALUE=DATE-TIME:20260419T231316Z
UID:040000008200E00074C5B7101A82E00800000000F08413B38094D00100000000000000
 001000000076F6B1779507624F9C4136E3188C5AF7
CREATED;VALUE=DATE-TIME:20150710T073754Z
DESCRIPTION:\n
LAST-MODIFIED;VALUE=DATE-TIME:20200706T064342Z
URL:https://www.sek-pratteln.ch/events/oeffentlich/2a-2ea-skilager-11-15-1
 .15
END:VEVENT
END:VCALENDAR
