BEGIN:VCALENDAR
VERSION:2.0
PRODID:-//Plone.org//NONSGML plone.app.event//EN
X-WR-TIMEZONE:Europe/Zurich
BEGIN:VEVENT
SUMMARY:2. und 3. Kl: 08:20 Beginn bei der KLP\, ab 10:15 Unterricht nach 
 Stundenplan
DTSTART;TZID=Europe/Zurich;VALUE=DATE-TIME:20200810T082000
DTEND;TZID=Europe/Zurich;VALUE=DATE-TIME:20200810T095500
DTSTAMP;VALUE=DATE-TIME:20260421T111317Z
UID:040000008200E00074C5B7101A82E0080000000070F29CA48E45D60100000000000000
 00100000003C5E64D6D1C3724C9C78E0C13DC00F31
CREATED;VALUE=DATE-TIME:20200706T062903Z
LAST-MODIFIED;VALUE=DATE-TIME:20200706T064407Z
LOCATION:Klassenzimmer
URL:https://www.sek-pratteln.ch/events/oeffentlich/2-und-3-kl-08-20-beginn
 -bei-der-klp-ab-10-15-unterricht-nach-stundenplan
END:VEVENT
BEGIN:VTIMEZONE
TZID:Europe/Zurich
X-LIC-LOCATION:Europe/Zurich
BEGIN:DAYLIGHT
DTSTART;VALUE=DATE-TIME:20200329T030000
TZNAME:CEST
TZOFFSETFROM:+0100
TZOFFSETTO:+0200
END:DAYLIGHT
END:VTIMEZONE
END:VCALENDAR
