BEGIN:VCALENDAR
VERSION:2.0
PRODID:-//Plone.org//NONSGML plone.app.event//EN
X-WR-TIMEZONE:Europe/Zurich
BEGIN:VEVENT
SUMMARY:2.P Typenwahlelternabend
DTSTART;TZID=Europe/Zurich;VALUE=DATE-TIME:20151201T193000
DTEND;TZID=Europe/Zurich;VALUE=DATE-TIME:20151201T210000
DTSTAMP;VALUE=DATE-TIME:20260421T110709Z
UID:040000008200E00074C5B7101A82E00800000000A06E5D187291D00100000000000000
 0010000000A88B15D4DA8A8A4E84AEE5BEBE699C69
CREATED;VALUE=DATE-TIME:20150710T073753Z
DESCRIPTION:\n\n\n
LAST-MODIFIED;VALUE=DATE-TIME:20200706T064342Z
URL:https://www.sek-pratteln.ch/events/oeffentlich/2-p-typenwahlelternaben
 d
END:VEVENT
BEGIN:VTIMEZONE
TZID:Europe/Zurich
X-LIC-LOCATION:Europe/Zurich
BEGIN:STANDARD
DTSTART;VALUE=DATE-TIME:20151025T020000
TZNAME:CET
TZOFFSETFROM:+0200
TZOFFSETTO:+0100
END:STANDARD
END:VTIMEZONE
END:VCALENDAR
