BEGIN:VCALENDAR
VERSION:2.0
PRODID:-//Plone.org//NONSGML plone.app.event//EN
X-WR-TIMEZONE:Europe/Zurich
BEGIN:VEVENT
SUMMARY:Interkultureller Projekttag der 8. Klassen
DTSTART;VALUE=DATE:20160413
DTEND;VALUE=DATE:20160421
DTSTAMP;VALUE=DATE-TIME:20260421T110938Z
UID:040000008200E00074C5B7101A82E00800000000301316198694D00100000000000000
 0010000000206B0EC16C5BE9419182F50DEB229B40
CREATED;VALUE=DATE-TIME:20150710T073756Z
LAST-MODIFIED;VALUE=DATE-TIME:20200706T064343Z
URL:https://www.sek-pratteln.ch/events/oeffentlich/2-kl-interkulturelles-u
 nterrichtsprojekt
END:VEVENT
END:VCALENDAR
